BEGIN:VCALENDAR
VERSION:2.0
PRODID:-//Digitallotse Rainer Pollmann - ECPv6.15.20//NONSGML v1.0//EN
CALSCALE:GREGORIAN
METHOD:PUBLISH
X-WR-CALNAME:Digitallotse Rainer Pollmann
X-ORIGINAL-URL:https://deploymentguru.de
X-WR-CALDESC:Veranstaltungen für Digitallotse Rainer Pollmann
REFRESH-INTERVAL;VALUE=DURATION:PT1H
X-Robots-Tag:noindex
X-PUBLISHED-TTL:PT1H
BEGIN:VTIMEZONE
TZID:UTC
BEGIN:STANDARD
TZOFFSETFROM:+0000
TZOFFSETTO:+0000
TZNAME:UTC
DTSTART:20230101T000000
END:STANDARD
END:VTIMEZONE
BEGIN:VEVENT
DTSTART;TZID=UTC:20251112T190000
DTEND;TZID=UTC:20251112T203000
DTSTAMP:20260423T084746
CREATED:20250831T132420Z
LAST-MODIFIED:20250831T144503Z
UID:1737-1762974000-1762979400@deploymentguru.de
SUMMARY:KI für ein gutes Altern
DESCRIPTION:„Alles rund um die Nutzung von KI im Alltag“ \n„Künstliche Intelligenz“ (KI\, ChatGPT) ist seit einiger Zeit in aller Munde. \nAn diesem Informationsabend wird der Digitallotse Dipl.-Ing. Rainer Pollmann den aktuellen „Stand der Dinge“ zum Einsatz von KI zur Erleichterung von alltäglichen Aufgaben speziell für Senioren & Seniorinnen beleuchten. \nEr wird auch Tipps zur Einrichtung und Nutzung von Tools & Apps mit Einsatz von KI geben. \nVoranmeldung nicht erforderlich – der Eintritt ist kostenfrei! \nMittwoch 12.11.2025 ab 19:00 im Homberger Treff\, Herrnhuter Strasse 4\, 40882 Ratingen
URL:https://deploymentguru.de/event/ki-fuer-ein-gutes-altern-2
LOCATION:Homberger Treff\, Ratingen\, Herrnhuterstraße 4\, Ratingen\, 40882\, Deutschland
CATEGORIES:Vortrag
ATTACH;FMTTYPE=image/png:https://deploymentguru.de/wp-content/uploads/2025/08/ki-homberg-12112025-1.png
END:VEVENT
BEGIN:VEVENT
DTSTART;TZID=UTC:20250812T100000
DTEND;TZID=UTC:20250812T110000
DTSTAMP:20260423T084746
CREATED:20250804T163215Z
LAST-MODIFIED:20250804T164020Z
UID:1720-1754992800-1754996400@deploymentguru.de
SUMMARY:Fake oder Fakt – Rote Karte für die Desinformation
DESCRIPTION:Um sich eine eigene Meinung zu bilden\, braucht es möglichst umfassende\, korrekte und gut recherchierte Informationen. Durch bewusst gestreute Falschmeldungen und gezielte Desinformation wird es jedoch immer schwieriger\, wahr von unwahr zu unterscheiden. Vor allem im Internet verbreiten sich solche Falschmeldungen rasant. \nWas kann man dagegen tun? \nIn dieser Fragerunde mit Digitallotse Dipl.-Ing. Rainer Pollmann erhalten wir Tipps zum Umgang mit und zur Erkennung von Fake-Informationen. \nFür die Videokonferenz wird die Software „Zoom“ verwendet. Sie können über diesen Link an der Veranstaltung teilnehmen. \nMeeting-ID: 662 6758 7240 \nKenncode: 332375 \nZur Teilnahme benötigen Sie Ihr Tablet\, Smartphone oder Laptop/PC.
URL:https://deploymentguru.de/event/fake-oder-fakt-rote-karte-fuer-die-desinformation
LOCATION:Online\, Deutschland
CATEGORIES:Online Event,Vortrag
ATTACH;FMTTYPE=image/jpeg:https://deploymentguru.de/wp-content/uploads/2025/08/fake-keyboard-1.jpg
END:VEVENT
BEGIN:VEVENT
DTSTART;TZID=UTC:20250718T100000
DTEND;TZID=UTC:20250718T120000
DTSTAMP:20260423T084746
CREATED:20250716T181152Z
LAST-MODIFIED:20250716T181152Z
UID:1656-1752832800-1752840000@deploymentguru.de
SUMMARY:KI für ein gutes Altern
DESCRIPTION:Wie Künstliche Intelligenz den Alltag älterer Menschen bereichern kann \nDer Mehrgenerationentreff Tiefenbroich an der Sohlstättenstraße 33c in Ratingen lädt am Freitag\, 18. Juli\, um 10 Uhr zu einem informativen Vortrag mit Dipl.-Ing. Rainer Pollmann ein. Unter dem Titel „KI für ein gutes Altern“ erfahren Interessierte\, wie Künstliche Intelligenz (KI) bereits heute unseren Alltag prägt und welchen besonderen Nutzen sie für ältere Menschen bieten kann. \nKI begegnet uns in vielen Lebensbereichen: Sprachassistenten wie Alexa oder Siri erleichtern die Kommunikation\, smarte Haushaltsgeräte übernehmen alltägliche Aufgaben und Gesundheits-Apps unterstützen bei der Überwachung wichtiger Vitalwerte. Auch im Bereich der Sicherheit und Selbstständigkeit bieten KI-Systeme wertvolle Unterstützung – etwa durch Sturzerkennung\, Medikamentenerinnerungen oder die Steuerung von Smart-Home-Lösungen. \nGerade für ältere Menschen eröffnet der Einsatz von KI zahlreiche Vorteile: Er ermöglicht ein längeres selbstbestimmtes Leben\, fördert die soziale Teilhabe durch digitale Kommunikationshilfen und trägt zur Verbesserung der Gesundheitsvorsorge bei. \nDer Vortrag gibt einen kleinen Überblick über solche Systeme und richtet sich an alle\, die sich für die Möglichkeiten und Herausforderungen von Künstlicher Intelligenz im Alter interessieren und mehr darüber erfahren möchten. \nDer Vortrag ist kostenfrei. Für eine Anmeldung und bei Fragen wenden sich Interessierte bitte an Treffleiterin Barbara Buscher-Sander unter Telefon 02102 550-5095.
URL:https://deploymentguru.de/event/ki-fuer-ein-gutes-altern
LOCATION:Mehrgenerationentreff Ratingen Tiefenbroich\, Sohlstättenstraße 33\, Ratingen\, 40880\, Germany
CATEGORIES:Vortrag
ATTACH;FMTTYPE=image/jpeg:https://deploymentguru.de/wp-content/uploads/2024/02/netzwerk-ki-bing-1.jpeg
END:VEVENT
BEGIN:VEVENT
DTSTART;VALUE=DATE:20240607
DTEND;VALUE=DATE:20240608
DTSTAMP:20260423T084746
CREATED:20240205T215359Z
LAST-MODIFIED:20240606T085028Z
UID:1088-1717718400-1717804799@deploymentguru.de
SUMMARY:Bundesweiter Digitaltag am 7. Juni 2024
DESCRIPTION:Save the Date: Bundesweiter Digitaltag am 7. Juni 2024 \nWie wir uns informieren\, wie wir einkaufen\, lernen\, miteinander kommunizieren\, ärztlichen Rat einholen\, oder Dienstleistungen der öffentlichen Verwaltung in Anspruch nehmen – Digitalisierung verändert unseren Alltag und unser Berufsleben tiefgreifend. Jede und Jeder muss in die Lage versetzt werden\, sich souverän und sicher\, selbstbewusst und selbstbestimmt in der digitalen Welt zu bewegen. \nDazu haben wir den jährlich stattfindenden Digitaltag ins Leben gerufen: Mit über 2.500 Aktionen wollen wir die unterschiedlichen Aspekte der Digitalisierung beleuchten und gemeinsam über Chancen und Herausforderungen diskutieren. \nAm 7. Juni 2024 findet der fünfte bundesweite Digitaltag statt. Aktionen können ab sofort über ein Online-Formular angemeldet werden. Wer sich aktiv mit eigenen Formaten einbringen will\, kann sich gern zu unseren Online-Infoveranstaltungen zuschalten. Hier geben wir Tipps zur Gestaltung von Aktionen und beantworten Fragen rund um den Aktionstag. Ideen und Inspiration für die konkrete Ausgestaltung von Aktionen gibt auch unser Aktionsleitfaden. \n  \n \nDie Digitalpaten in Ratingen sind ebenfalls am 7. Juni 2024 auf den Seniorentagen im Medienzentrum in Ratingen (Peter-Brüning-Platz 3\, 40878 Ratingen) vertreten. \nDie Digitalpaten Ratingen veranstalten in einer Kooperation mit dem Medienzentrum Ratingen am Freitag\, 07. Juni 2024 aus Anlass des bundesweiten Digitaltages einen Seniorenmedientag im Medienzentrum Ratingen. \nIn der Zeit von 11:00 Uhr bis 16:00 Uhr sind im Erdgeschoss des Medienzentrums folgende Aktionen geplant: \nVorstellung der digitalen Angebote des Medienzentrums: \n– freegalmusic: Tauchen Sie ein in eine Welt voller Musikgenuss.\n– Filmfriend: Das Filmportal für Bibliotheken\n– Onleihe ermöglicht es Bibliotheksnutzern\, digitale Medien online auszuleihen. \nThemen-Tische: \n– Tipps und Tricks beim Umgang mit dem Smartphone (Apple iOS und Google Android)\n– Umgang mit Fotos auf dem Smartphone\n– Navigation mit dem Smartphone\n– Reiseplanung mit dem Smartphone\n– Umgang mit WhatsApp auf dem Smartphone\n– Vorstellung von Smartphone-Modellen und Vertragsmöglichkeiten \nBeratungs-Insel:\n– Allgemeine Fragen zu Smartphone & Co.\n– „Was ich schon immer wissen wollte“ \nVortrag: \nKontakte knüpfen und pflegen: Tipps zum Umgang mit WhatsApp\, Facebook & Co. \nPROGRAMM
URL:https://deploymentguru.de/event/bundesweiter-digitaltag-am-7-juni-2024
LOCATION:Online\, Deutschland
CATEGORIES:Online Event
ATTACH;FMTTYPE=image/png:https://deploymentguru.de/wp-content/uploads/2024/03/Digitaltag2024_RGB_mitEcke_trans.png
END:VEVENT
BEGIN:VEVENT
DTSTART;TZID=UTC:20240603T143000
DTEND;TZID=UTC:20240603T160000
DTSTAMP:20260423T084746
CREATED:20240302T143400Z
LAST-MODIFIED:20240302T143713Z
UID:1258-1717425000-1717430400@deploymentguru.de
SUMMARY:Elektronische Patientenakte und E-Rezept - Online-Veranstaltung des Digitalen Engels
DESCRIPTION:Die elektronische Patientenakte (ePA) und das eRezept sind zwei wichtige Neuerungen im Gesundheitswesen\, die viele Vorteile mit sich bringen. Auch Senior:innen können von den Vorteilen der ePA und des E-Rezeptes profitieren. Doch wie funktionieren diese Anwendungen und welche Voraussetzungen müssen erfüllt sein\, um sie nutzen zu können? Und wie sieht es mit dem Thema Datenschutz und -sicherheit aus? In dieser Veranstaltung geben wir Ihnen Antworten auf diese Fragen. \nEine Anmeldung für die Veranstaltung ist nicht erforderlich. Sie können über folgende Zugangsdaten teilnehmen: \nhttps://eu02web.zoom-x.de/j/3387023588?omn=67963586921 \nMeeting-ID: 338 702 3588 \nWir freuen uns auf Ihre Teilnahme. \nDabei sein! Online im Alter. \n  \nGerne helfen wir Ihnen dabei\, sich dazu zu schalten. Hier finden Sie Anleitungen und Erklärvideos: \nWie installiere ich Zoom? \nAnleitung: Einer Zoom-Veranstaltung beitreten mit Chrome \nAnleitung: Einer Zoom-Veranstaltung beitreten mit Firefox \nBei Fragen zur Teilnahme an der Online-Veranstaltung mit Zoom hilft Ihnen das Team des Digitalen Engel gern telefonisch unter: +49 (0) 30 76 7581 530.
URL:https://deploymentguru.de/event/elektronische-patientenakte-und-e-rezept-online-veranstaltung-des-digitalen-engels
LOCATION:Online\, Deutschland
CATEGORIES:Online Event
ATTACH;FMTTYPE=image/png:https://deploymentguru.de/wp-content/uploads/2024/02/digitaler-engel-1.png
END:VEVENT
BEGIN:VEVENT
DTSTART;TZID=UTC:20240321T150000
DTEND;TZID=UTC:20240321T160000
DTSTAMP:20260423T084746
CREATED:20240302T142716Z
LAST-MODIFIED:20240302T143619Z
UID:1254-1711033200-1711036800@deploymentguru.de
SUMMARY:Kurznachrichten & Soziale Netzwerke - Online-Veranstaltung des Digitalen Engels
DESCRIPTION:Es gibt viele Möglichkeiten über das Internet Kontakt zu anderen Menschen zu pflegen\, z.B. durch das Schreiben von Nachrichten\, das kostenfreie Versenden von Fotos oder der Teilnahme an Gruppendiskussionen. \nIn dieser Veranstaltung informieren wir über unterschiedliche Kurznachrichtendienste und soziale Netzwerke\, z.B. wie Sie über Kurznachrichtendienste wie WhatsApp\, Signal oder Telegram Text- oder Sprachnachrichten sowie Fotos oder Videos an Freunde und Verwandte verschicken können. Auch soziale Netzwerke wie Nebenan.de\, Facebook oder Instagram bieten die Möglichkeit\, sich mit anderen Personen austauschen zu können. Wie dieses funktioniert\, zeigen wir Ihnen. \nSie möchten wissen\, welche Vorteile Kurznachrichtendienste und soziale Netzwerke bieten und was hinsichtlich des Datenschutzes zu beachten ist? Auch darüber klären wir auf. \nEine Anmeldung für die Veranstaltung ist nicht erforderlich. Sie können über folgende Zugangsdaten teilnehmen: \nhttps://eu02web.zoom-x.de/j/3387023588?omn=63573322807 \nMeeting-ID: 338 702 3588 \nWir freuen uns auf Ihre Teilnahme. \nDabei sein! Online im Alter. \n  \nGerne helfen wir Ihnen dabei\, sich dazu zu schalten. Hier finden Sie Anleitungen und Erklärvideos: \nWie installiere ich Zoom?\nAnleitung: Einer Zoom-Veranstaltung beitreten mit Chrome\nAnleitung: Einer Zoom-Veranstaltung beitreten mit Firefox\nBei Fragen zur Teilnahme an der Online-Veranstaltung mit Zoom hilft Ihnen das Team des Digitalen Engel gern telefonisch unter: +49 (0) 30 76 7581 530 \n 
URL:https://deploymentguru.de/event/kurznachrichten-soziale-netzwerke-online-veranstaltung-des-digitalen-engels
LOCATION:Online\, Deutschland
CATEGORIES:Online Event
ATTACH;FMTTYPE=image/png:https://deploymentguru.de/wp-content/uploads/2024/02/digitaler-engel-1.png
END:VEVENT
BEGIN:VEVENT
DTSTART;TZID=UTC:20240320T190000
DTEND;TZID=UTC:20240320T200000
DTSTAMP:20260423T084746
CREATED:20240318T082000Z
LAST-MODIFIED:20240318T082310Z
UID:1342-1710961200-1710964800@deploymentguru.de
SUMMARY:BfDI Forum „Ausschließlich digital? – Wie weit geht das Recht auf ein analoges Leben?”
DESCRIPTION:Politisches Frühjahrsforum zu Digitalzwang\nBeim Frühjahrsforum des Bundesbeauftragten für den Datenschutz und die Informationsfreiheit (BfDI) geht es dieses Mal um das Thema „Ausschließlich digital? – Wie weit geht das Recht auf ein analoges Leben?”. Rena Tangens wird als Diskutantin bei einer Podiumsdiskussion anwesend sein. Diese Diskussion gibt es als Livestream zu sehen\, am Mittwoch\, 20. März 2024 ab 19 Uhr. \nMehr Informationen zur Veranstaltung und den Livestream gibt es auf der Website des BfDI:\nhttps://www.bfdi.bund.de/SharedDocs/Kurzmeldungen/DE/2024/4-Fruehlingsforum.html
URL:https://deploymentguru.de/event/bfdi-forum-ausschliesslich-digital-wie-weit-geht-das-recht-auf-ein-analoges-leben
LOCATION:Online\, Deutschland
CATEGORIES:Online Event
ATTACH;FMTTYPE=image/jpeg:https://deploymentguru.de/wp-content/uploads/2024/03/Herbstforum-Podium.jpg
ORGANIZER;CN="Bundesbeauftragter f%C3%BCr den Datenschutz und die Informationsfreiheit (BfDI)":MAILTO:poststelle@bfdi.bund.de
END:VEVENT
BEGIN:VEVENT
DTSTART;TZID=UTC:20240315T110000
DTEND;TZID=UTC:20240315T120000
DTSTAMP:20260423T084746
CREATED:20240303T113221Z
LAST-MODIFIED:20240303T184510Z
UID:1274-1710500400-1710504000@deploymentguru.de
SUMMARY:Weltverbrauchertag-Warnsignale vor Betrug am Finanzmarkt erkennen - vom Digitalen Kompass
DESCRIPTION:Sind Sie im Internet auf einen heißen Anlagetipp aufmerksam geworden? Ein Investment mit hoher Rendite und ganz ohne Risiko? Wurden Sie per E-Mail aufgefordert\, einem Link auf die Website einer Bank zu folgen? Und dort sofort Ihren Online-Banking-Zugang zu aktualisieren? Bei diesen und ähnlichen Fällen handelt es sich häufig um Betrugsmaschen\, mit denen Kriminelle Ihr Geld oder persönliche Daten ergaunern wollen. \nDie Bundesanstalt für Finanzdienstleistungsaufsicht (BaFin) muss immer wieder gegen unerlaubt tätige Unternehmen einschreiten\, die ohne staatliche Erlaubnis Bank-\, Finanzdienstleistungs- und Versicherungsgeschäfte anbieten. \nAm Weltverbrauchertag zeigen Experten der BaFin anhand von Beispielen\, wie Sie sich vor Betrug schützen können und welche Informationen die BaFin für Sie bereit hält. \nFür die Videokonferenz wird die Software „Zoom“ verwendet. Sie können über den folgenden Link an der Veranstaltung teilnehmen:\nMeeting-ID: 882 5695 97809 \nKenncode: 696036 \nZur Teilnahme benötigen Sie Ihr Tablet\, Smartphone oder Laptop/PC. \nHier finden Sie Anleitungen für Teilnehmende (freundlicherweise erstellt von unserem Partner Onlinerland Saar).\nFalls Sie mit dem Tablet oder Smartphone teilnehmen möchten (Anleitung). \n  \n 
URL:https://deploymentguru.de/event/weltverbrauchertag-warnsignale-vor-betrug-am-finanzmarkt-erkennen-vom-digtalen-kompass
LOCATION:Online\, Deutschland
CATEGORIES:Online Event,Vortrag
ATTACH;FMTTYPE=image/jpeg:https://deploymentguru.de/wp-content/uploads/2024/03/diko_logo_2022.jpg
END:VEVENT
BEGIN:VEVENT
DTSTART;TZID=UTC:20240307T160000
DTEND;TZID=UTC:20240307T170000
DTSTAMP:20260423T084746
CREATED:20240303T112408Z
LAST-MODIFIED:20240303T113808Z
UID:1271-1709827200-1709830800@deploymentguru.de
SUMMARY:Lange zuhause leben mit digitalen Assistenzsystemen - Online-Seminar der VZ NRW
DESCRIPTION:Saugroboter\, Seniorenhandys oder smarte Blutdruckmessgeräte verbessern die Lebensqualität – gerade für Senioren. Smarte Uhren und intelligente Tablettenspender helfen\, die Gesundheit zu erhalten.\nAbschaltautomatiken und Alarmsysteme bieten Sicherheit. Verschaffen Sie sich einen ersten Überblick\, auch zu den Themen Datenschutz und Kostenübernahme durch die Pflegekasse. \nHier geht es zur Anmeldung: \nhttps://join.next.edudip.com/de/webinar/langezuhause-leben-mit-digitalen-assistenzsytemen/1719706 \n 
URL:https://deploymentguru.de/event/lange-zuhause-leben-mit-digitalen-assistenzsystemen-online-seminar-der-vz-nrw
LOCATION:Online\, Deutschland
ATTACH;FMTTYPE=image/png:https://deploymentguru.de/wp-content/uploads/2024/03/logo-vz-nrw-1.png
END:VEVENT
END:VCALENDAR